BEGIN:VCALENDAR
VERSION:2.0
PRODID:-//OmniMagnetCalendar//EN
BEGIN:VEVENT
DTSTAMP:20190625T195740Z
STATUS:CONFIRMED
UID:1978.classes.harvard.edu209
DTSTART:20180808T040000Z
DTEND:20180809T225900Z
LOCATION:Mount Harvard, Collegiate Peaks, Sawatch Range, Colorado (near the town of Buena Vista, in the Arkansas River Valley), Colorado, USA,
SUMMARY:'Class Climb' of Mt. Harvard, Colorado
DESCRIPTION:SAVE THE DATE: Classmates and their adult family members are invited to participate in a “Class Climb” on August 8 (weather backup is August 9) of Mount Harvard, Collegiate Peaks, Sawatch Range, Colorado (near the town of Buena Vista, in the Arkansas
BEGIN:VALARM
TRIGGER:-PT15M
ACTION:DISPLAY
END:VALARM
TRANSP:OPAQUE
END:VEVENT
END:VCALENDAR
