BEGIN:VCALENDAR
VERSION:2.0
PRODID:-//OmniMagnetCalendar//EN
BEGIN:VEVENT
DTSTAMP:20190625T195740Z
STATUS:CONFIRMED
UID:1978.classes.harvard.edu229
DTSTART:20230227T220000Z
DTEND:20230227T230000Z
LOCATION:Virtual,
SUMMARY:A Fireside Chat with Dr. Risa Gold
DESCRIPTION:A ClassACT HRX8 Event
BEGIN:VALARM
TRIGGER:-PT15M
ACTION:DISPLAY
END:VALARM
TRANSP:OPAQUE
END:VEVENT
END:VCALENDAR
