BEGIN:VCALENDAR
VERSION:2.0
PRODID:-//OmniMagnetCalendar//EN
BEGIN:VEVENT
DTSTAMP:20190625T195740Z
STATUS:CONFIRMED
UID:1978.classes.harvard.edu231
DTSTART:20230326T180000Z
DTEND:20230326T200000Z
LOCATION:Home of Chris Dowd '78 and Dawn Decker, 2995 Lake Street, San Francisco, CA, 94121, USA,
SUMMARY:Pre-Reunion Brunch in San Francisco
DESCRIPTION:
BEGIN:VALARM
TRIGGER:-PT15M
ACTION:DISPLAY
END:VALARM
TRANSP:OPAQUE
END:VEVENT
END:VCALENDAR
