BEGIN:VCALENDAR
VERSION:2.0
PRODID:-//OmniMagnetCalendar//EN
BEGIN:VEVENT
DTSTAMP:20190625T195740Z
STATUS:CONFIRMED
UID:1978.classes.harvard.edu232
DTSTART:20230402T210000Z
DTEND:20230402T230000Z
LOCATION:Home of Marty Gagliano and Richard Hunt, Class of '78, 3603 Stonegate Drive, Durham, NC, 27705, USA,
SUMMARY:45th HR Reunion -- pre-Reunion dinner in Durham, NC
DESCRIPTION:
BEGIN:VALARM
TRIGGER:-PT15M
ACTION:DISPLAY
END:VALARM
TRANSP:OPAQUE
END:VEVENT
END:VCALENDAR
