BEGIN:VCALENDAR
VERSION:2.0
PRODID:-//OmniMagnetCalendar//EN
BEGIN:VEVENT
DTSTAMP:20190625T195740Z
STATUS:CONFIRMED
UID:1978.classes.harvard.edu240
DTSTART:20230418T220000Z
DTEND:20230418T220000Z
LOCATION:The Boston Athaneum, 10 1/2 Beacon Street, Boston, MA, 02108, USA,
SUMMARY:Boston Athaneum Cocktails and Conversation
DESCRIPTION:
BEGIN:VALARM
TRIGGER:-PT15M
ACTION:DISPLAY
END:VALARM
TRANSP:OPAQUE
END:VEVENT
END:VCALENDAR
