BEGIN:VCALENDAR
VERSION:2.0
PRODID:-//OmniMagnetCalendar//EN
BEGIN:VEVENT
DTSTAMP:20190625T195740Z
STATUS:CONFIRMED
UID:1978.classes.harvard.edu246
DTSTART:20230502T210000Z
DTEND:20230502T230000Z
LOCATION:Zoom (link in Description),
SUMMARY:The Devil Never Sleeps: Learning to Live in an Age of Disasters
DESCRIPTION:
BEGIN:VALARM
TRIGGER:-PT15M
ACTION:DISPLAY
END:VALARM
TRANSP:OPAQUE
END:VEVENT
END:VCALENDAR
